Workbook

Sheet Planas
E1: PATVIRTINTA Kauno Jono Jablonskio gimnazijos direktoriaus 2025-04-14 įsakymu Nr. V-151
A2: Kauno Jono Jablonskio gimnazija
A3: 2025-2026 / 2026-2027 m. m. individualus ugdymo planas (III–IV kl.) | J3: Iš viso dalykų: | K3: =T51 -> 0
B5: Vardas Pavardė | J5: Pamokų skaičius III klasėje: | K5: =U51 -> 0 | L5: =IF((K5<36)*(K5>=25),"","Pamokų turi būti ne mažiau kaip 25 ir ne daugiau kaip 35") -> Pamokų turi būti ne mažiau kaip 25 ir ne daugiau kaip 35
B7: Klasė | D7: Telefonas | J7: Pamokų skaičius IV klasėje: | K7: =V51 -> 0 | L7: =IF((K7<36)*(K7>=25),"","Pamokų turi būti ne mažiau kaip 25 ir ne daugiau kaip 35") -> Pamokų turi būti ne mažiau kaip 25 ir ne daugiau kaip 35
A8: Pasirinktą dalyką, kursą, modulį pažymėkite: R .
A9: PRIVALOMI DALYKAI
A10: Eil. Nr. | B10: Dalykas | E10: Pamokų skaičius | G10: Pasirinkimas | N10: Dalykas | O10: B | P10: A | Q10: Ar teisingai pasirinktas dalykas | R10: Ar teisingai pasirinkta grupėje | S10: Papildomas patikrinimas | T10: Kursas | U10: Valandos 3 kl | V10: Valandos 4 kl
E11: III kl. | F11: IV kl. | G11: Bendrasis kursas (B) | H11: Išplėstinis kursas (A)
A12: 1 | B12: Lietuvių kalba ir literatūra | E12: =U12 | F12: =V12 | J12: =IF(AND(NOT(O12),NOT(P12)),"Privaloma pasirinkti lietuvių k. B arba A kursą",IF(AND(O12,P12),"Galima rinktis tik A arba B kursą","")) -> Privaloma pasirinkti lietuvių k. B arba A kursą | N12: =B12 -> Lietuvių kalba ir literatūra | O12: FALSE | P12: FALSE | Q12: =IF((O12 +P12)*NOT(O12*P12),1,0) -> 0 | S12: =IF(AND(P12,Q12=1),1,0) -> 0 | T12: =IF(Q12=1,IF(O12,"B","A"),"") | U12: =IF($T12="B",4,IF($T12="A",6,"")) | V12: =IF($T12="B",4,IF($T12="A",6,""))
A13: 2 | B13: Matematika | E13: =U13 | F13: =V13 | J13: =IF(AND(NOT(O13),NOT(P13)),"Privaloma pasirinkti matematikos B arba A kursą",IF(AND(O13,P13),"Galima rinktis tik A arba B kursą","")) -> Privaloma pasirinkti matematikos B arba A kursą | N13: =B13 -> Matematika | O13: FALSE | P13: FALSE | Q13: =IF((O13 +P13)*NOT(O13*P13),1,0) -> 0 | T13: =IF(Q13=1,IF(O13,"B","A"),"") | U13: =IF($T13="B",5,IF($T13="A",7,"")) | V13: =IF($T13="B",4,IF($T13="A",6,""))
A14: 3 | B14: Fizinis ugdymas | E14: =U14 | F14: =V14 | J14: =IF(Q14=0,"Privaloma pasirinkti fizinį ugdymą","") -> Privaloma pasirinkti fizinį ugdymą | N14: =B14 -> Fizinis ugdymas | P14: FALSE | Q14: =IF(P14,1,0) -> 0 | U14: =IF($Q14=1,3,"") | V14: =IF($Q14=1,3,"")
U15: =IF($Q15=1,3,"") | V15: =IF($Q15=1,3,"")
A16: PRIVALOMAI PASIRENKAMI DALYKAI | U16: =IF($Q16=1,3,"") | V16: =IF($Q16=1,3,"")
A17: Eil. Nr. | B17: Dalykų grupė | C17: Dalykas | E17: Pamokų skaičius | G17: Pasirin-kimas | U17: =IF($Q17=1,3,"") | V17: =IF($Q17=1,3,"")
E18: III kl. | F18: IV kl. | U18: =IF($Q18=1,3,"") | V18: =IF($Q18=1,3,"")
A19: 4 | B19: Dorinis ugdymas | C19: Tikyba | E19: =U19 | F19: =V19 | J19: =IF(SUM(Q19:Q20)=0,"Privaloma pasirinkti vieną dorinio ugdymo dalyką",IF(AND(P19,P20),"Galima rinktis tik vieną dorinio ugdymo dalyką","")) -> Privaloma pasirinkti vieną dorinio ugdymo dalyką | N19: =C19 -> Tikyba | P19: FALSE | Q19: =IF(P19,1,0) -> 0 | R19: =IF(SUM(Q19:Q20)=1,1,0) -> 0 | U19: =IF($R$19=1,IF($Q19=1,2,""),"") | V19: =IF($R$19=1,IF($Q19=1,0,""),"")
C20: Etika | E20: =U20 | F20: =V20 | N20: =C20 -> Etika | P20: FALSE | Q20: =IF(P20,1,0) -> 0 | U20: =IF($R$19=1,IF($Q20=1,2,""),"") | V20: =IF($R$19=1,IF($Q20=1,0,""),"")
A21: 5 | B21: Kalbinis ugdymas | C21: Užsienio kalba (anglų), B2 (su moduliu III ir IV kl.) | E21: =U21 | F21: =V21 | J21: =IF(SUM(Q21:Q22)=0,"Privaloma pasirinkti vieną užsienio kalbą",IF(R21=2,"Būtina pasirinkti pirmąją užsienio kalbą",IF(R21=3,"Galima rinktis tik vieną antrąją užsienio kalbą",""))) -> Privaloma pasirinkti vieną užsienio kalbą | N21: =C21 -> Užsienio kalba (anglų), B2 (su moduliu III ir IV kl.) | P21: FALSE | Q21: =IF(P21,1,0) -> 0 | R21: =IF(SUM(Q21:Q21)>0,1,0) -> 0 | U21: =IF($Q21=1,4,"") | V21: =IF($Q21=1,4,"")
E22: =U22 | F22: =V22 | N22: =C22 -> 0 | P22: TRUE | Q22: 0 | U22: =IF($Q22=1,3,"") | V22: =IF($Q22=1,4,"")
A23: 6 | B23: Gamtamokslinis ir technologinis ugdymas | C23: Biologija (su moduliu IV kl.) | E23: =U23 | F23: =V23 | J23: =IF(SUM(Q23:Q26)=0,"Privaloma pasirinkti bent vieną šios grupės dalyką","") -> Privaloma pasirinkti bent vieną šios grupės dalyką | N23: =C23 -> Biologija (su moduliu IV kl.) | P23: FALSE | Q23: =IF(P23,1,0) -> 0 | R23: =IF(SUM(Q23:Q26)>0,1,0) -> 0 | U23: =IF($Q23=1,3,"") | V23: =IF($Q23=1,4,"")
C24: Chemija (su moduliu III kl.) | E24: =U24 | F24: =V24 | N24: =C24 -> Chemija (su moduliu III kl.) | P24: FALSE | Q24: =IF(P24,1,0) -> 0 | U24: =IF($Q24=1,4,"") | V24: =IF($Q24=1,3,"")
C25: Fizika (su moduliu IV kl.) | E25: =U25 | F25: =V25 | N25: =C25 -> Fizika (su moduliu IV kl.) | P25: FALSE | Q25: =IF(P25,1,0) -> 0 | U25: =IF($Q25=1,4,"") | V25: =IF($Q25=1,4,"")
C26: Informatika (su moduliu III ir IV kl.) | E26: =U26 | F26: =V26 | N26: =C26 -> Informatika (su moduliu III ir IV kl.) | P26: FALSE | Q26: =IF(P26,1,0) -> 0 | U26: =IF($Q26=1,4,"") | V26: =IF($Q26=1,4,"")
A27: 7 | B27: Visuomeninis ugdymas | C27: Filosofija | E27: =U27 | F27: =V27 | N27: =C27 -> Filosofija | P27: FALSE | Q27: =IF(P27,1,0) -> 0 | R27: =IF(SUM(Q27:Q30)>0,1,0) -> 0 | U27: =IF($Q27=1,3,"") | V27: =IF($Q27=1,3,"")
C28: Istorija | E28: =U28 | F28: =V28 | J28: =IF(SUM(Q27:Q30)=0,"Privaloma pasirinkti bent vieną iš visuomenės mokslų","") -> Privaloma pasirinkti bent vieną iš visuomenės mokslų | N28: =C28 -> Istorija | P28: FALSE | Q28: =IF(P28,1,0) -> 0 | U28: =IF($Q28=1,3,"") | V28: =IF($Q28=1,4,"")
C29: Geografija | E29: =U29 | F29: =V29 | N29: =C29 -> Geografija | P29: FALSE | Q29: =IF(P29,1,0) -> 0 | U29: =IF($Q29=1,3,"") | V29: =IF($Q29=1,4,"")
C30: Ekonomika ir verslumas | E30: =U30 | F30: =V30 | N30: =C30 -> Ekonomika ir verslumas | P30: FALSE | Q30: =IF(P30,1,0) -> 0 | U30: =IF($Q30=1,3,"") | V30: =IF($Q30=1,3,"")
A31: 8 | B31: Menai ir technologijos | C31: Dailė | E31: =U31 | F31: =V31 | J31: =IF(R31=0,"Privaloma pasirinkti vieną menų/technologijų dalyką",IF(R31>1,"Galima rinktis vieną menų/technologijų dalyką","")) -> Privaloma pasirinkti vieną menų/technologijų dalyką | N31: =C31 -> Dailė | P31: FALSE | Q31: =IF(P31,1,0) -> 0 | R31: =SUM(Q31:Q37) -> 0 | U31: =IF(AND($R$31=1,$Q31=1),2,"") | V31: =IF(AND($R$31=1,$Q31=1),2,"")
C32: Muzika | E32: =U32 | F32: =V32 | N32: =C32 -> Muzika | P32: FALSE | Q32: =IF(P32,1,0) -> 0 | U32: =IF(AND($R$31=1,$Q32=1),2,"") | V32: =IF(AND($R$31=1,$Q32=1),2,"")
C33: Šokis | E33: =U33 | F33: =V33 | N33: =C33 -> Šokis | P33: FALSE | Q33: =IF(P33,1,0) -> 0 | U33: =IF(AND($R$31=1,$Q33=1),2,"") | V33: =IF(AND($R$31=1,$Q33=1),2,"")
C34: Teatras | E34: =U34 | F34: =V34 | N34: =C34 -> Teatras | P34: FALSE | Q34: =IF(P34,1,0) -> 0 | U34: =IF(AND($R$31=1,$Q34=1),2,"") | V34: =IF(AND($R$31=1,$Q34=1),2,"")
C35: Taikomosios technologijos (tekstilė/mityba) | E35: =U35 | F35: =V35 | N35: =C35 -> Taikomosios technologijos (tekstilė/mityba) | P35: FALSE | Q35: =IF(P35,1,0) -> 0 | U35: =IF(AND($R$31=1,$Q35=1),2,"") | V35: =IF(AND($R$31=1,$Q35=1),2,"")
C36: Taikomosios technologijos (dizainas) | E36: =U36 | F36: =V36 | N36: =C36 -> Taikomosios technologijos (dizainas) | P36: FALSE | Q36: =IF(P36,1,0) -> 0 | U36: =IF(AND($R$31=1,$Q36=1),2,"") | V36: =IF(AND($R$31=1,$Q36=1),2,"")
E37: =U37 | F37: =V37 | N37: =C37 -> 0 | P37: FALSE | Q37: =IF(P37,1,0) -> 0 | U37: =IF(AND($R$31=1,$Q37=1),2,"") | V37: =IF(AND($R$31=1,$Q37=1),2,"")
U38: =IF($Q38=1,3,"") | V38: =IF($Q38=1,3,"")
A39: PASIRENKAMIEJI DALYKAI | U39: =IF($Q39=1,3,"") | V39: =IF($Q39=1,3,"")
A40: Eil. Nr. | B40: Dalykų grupė | C40: Dalykas | E40: Pamokų skaičius | G40: Pasirin-kimas | U40: =IF($Q40=1,3,"") | V40: =IF($Q40=1,3,"")
E41: III kl. | F41: IV kl. | U41: =IF($Q41=1,3,"") | V41: =IF($Q41=1,3,"")
A42: 9 | B42: Vokiečių kalba (turėjusiems dalyką II klasėje) | E42: =U42 | F42: =V42 | N42: =B42 -> Vokiečių kalba (turėjusiems dalyką II klasėje) | P42: FALSE | Q42: =IF(P42,1,0) -> 0 | U42: =IF($Q42=1,2,"") | V42: =IF($Q42=1,2,"")
A43: 10 | B43: Rusų kalba (turėjusiems dalyką II klasėje) | E43: =U43 | F43: =V43 | N43: =B43 -> Rusų kalba (turėjusiems dalyką II klasėje) | P43: FALSE | Q43: =IF(P43,1,0) -> 0 | U43: =IF($Q43=1,2,"") | V43: =IF($Q43=1,2,"")
A44: 11 | B44: Prancūzų kalba (turėjusiems dalyką II klasėje) | E44: =U44 | F44: =V44 | N44: =B44 -> Prancūzų kalba (turėjusiems dalyką II klasėje) | P44: FALSE | Q44: =IF(P44,1,0) -> 0 | U44: =IF($Q44=1,2,"") | V44: =IF($Q44=1,2,"")
A45: 12 | B45: Ispanų kalba (turėjusiems dalyką II klasėje) | E45: =U45 | F45: =V45 | N45: =B45 -> Ispanų kalba (turėjusiems dalyką II klasėje) | P45: FALSE | Q45: =IF(P45,1,0) -> 0 | U45: =IF($Q45=1,2,"") | V45: =IF($Q45=1,2,"")
A46: 13 | B46: Italų kalba | E46: =U46 | F46: =V46 | N46: =B46 -> Italų kalba | P46: FALSE | Q46: =IF(P46,1,0) -> 0 | U46: =IF($Q46=1,2,"") | V46: =IF($Q46=1,2,"")
A47: 14 | B47: Hebrajų kalba | E47: =U47 | F47: =V47 | N47: =B47 -> Hebrajų kalba | P47: FALSE | Q47: =IF(P47,1,0) -> 0 | U47: =IF($Q47=1,2,"") | V47: =IF($Q47=1,2,"")
A48: 15 | B48: Nacionalinis saugumas ir krašto gynyba | E48: =U48 | F48: =V48 | N48: =B48 -> Nacionalinis saugumas ir krašto gynyba | P48: FALSE | Q48: =IF(P48,1,0) -> 0 | U48: =IF($Q48=1,1,"") | V48: =IF($Q48=1,1,"")
A49: 16 | B49: Psichologija | E49: =U49 | F49: =V49 | N49: =B49 -> Psichologija | P49: FALSE | Q49: =IF(P49,1,0) -> 0 | U49: =IF($Q49=1,1,"") | V49: =IF($Q49=1,1,"")
T51: =SUM(Q12:Q49) -> 0 | U51: =SUM(U12:U50) -> 0 | V51: =SUM(V12:V50) -> 0
C54: Iš viso dalykų: | D54: =K3 -> 0
C56: Iš viso valandų III klasėje | D56: =K5 -> 0
C58: Iš viso valandų IV klasėje | D58: =K7 -> 0
B62: Data | D62: Mokinio parašas | F62: Tėvų parašas

Sheet Pamokos
A1: =LEFT(Planas!A3,15) -> 2025-2026 / 202
E2: PRIVALOMI DALYKAI | J2: PRIVALOMAI PASIRENKAMI DALYKAI | AD2: PASIRENKAMIEJI DALYKAI | AF2: DALYKŲ MODULIAI
B3: Kodas | C3: Klasė | D3: Pavardė, vardas | E3: Lietuvių kalba ir literatūra B | F3: Lietuvių kalba ir literatūra A | G3: Matematika B | H3: Matematika A | I3: Fizinis ugdymas | J3: Tikyba | K3: Etika | L3: Užsienio kalba (pirmoji anglų) (su integruotu moduliu) | M3: Užsienio kalba (antroji vokiečių) | N3: Užsienio kalba (antroji prancūzų) | O3: Užsienio kalba (antroji rusų) | P3: Biologija | Q3: Chemija | R3: Fizika | S3: Informatika | T3: Istorija | U3: Geografija | V3: Ekonomika ir verslumas | W3: Dailė | X3: Muzika | Y3: Šokis | Z3: Teatras | AA3: Medijų menas | AB3: Taikomosios technologijos (mityba) | AC3: Taikomosios technologijos (tekstilė) | AD3: Astronomija | AE3: Psichologija | AF3: =Planas!#REF! -> #REF! | AG3: =Planas!#REF! -> #REF! | AH3: =Planas!#REF! -> #REF! | AI3: =Planas!#REF! -> #REF! | AJ3: =Planas!#REF! -> #REF! | AK3: =Planas!#REF! -> #REF! | AL3: =Planas!#REF! -> #REF! | AM3: =Planas!#REF! -> #REF! | AN3: Tel. Nr.
B4: ="25"&MID(Planas!C7,3,1)&"_"&LEFT(Planas!E5,3)&LEFT(Planas!C5,1) -> 25_ | C4: =Planas!C7 -> 0 | D4: =Planas!E5&" "&Planas!C5 | E4: =IF(Planas!O12,Planas!E12,"") | F4: =IF(Planas!P12,Planas!E12,"") | G4: =IF(Planas!O13,Planas!E13,"") | H4: =IF(Planas!P13,Planas!E13,"") | I4: =Planas!E14 | J4: =Planas!E19 | K4: =Planas!E20 | L4: =Planas!E21 | M4: =Planas!#REF! -> #REF! | N4: =Planas!#REF! -> #REF! | O4: =Planas!E22 | P4: =Planas!E23 | Q4: =Planas!E24 | R4: =Planas!E25 | S4: =Planas!E26 | T4: =Planas!E28 | U4: =Planas!E29 | V4: =Planas!E30 | W4: =Planas!E31 | X4: =Planas!E32 | Y4: =Planas!E33 | Z4: =Planas!E34 | AA4: =Planas!E35 | AB4: =Planas!E36 | AC4: =Planas!E37 | AD4: =Planas!E42 | AE4: =Planas!E45 | AF4: =Planas!#REF! -> #REF! | AG4: =Planas!#REF! -> #REF! | AH4: =Planas!#REF! -> #REF! | AI4: =Planas!#REF! -> #REF! | AJ4: =Planas!#REF! -> #REF! | AK4: =Planas!#REF! -> #REF! | AL4: =Planas!#REF! -> #REF! | AM4: =Planas!#REF! -> #REF! | AN4: =Planas!E7 -> 0
